Workbook
Name rente_per_maand: toelichting!#REF!
Name rente_per_maand: toelichting!#REF!

Sheet toelichting
A1: Financieringslastnormen 2026
A13: Rekenhulp
A15: inkomen 1 | B15: 29500 | D15: bruto jaarinkomen
A16: inkomen 2 | B16: 0 | D16: bruto jaarinkomen
A17: rente | B17: 0.035 | D17: hypotheekrente (toetsrente = 5%)
A18: AOW | B18: ja | D18: tabel voor AOW-leeftijd gebruiken? (nee/ja)
A19: box 3 | B19: nee | D19: gaat het om niet aftrekbare gedeelten? (nee/ja)
A20: verhoging niet-kwetsbare groep | B20: ja | D20: is de verhoging voor niet-kwetsbare groep van toepassing? (ja/nee)
A21: energielabel | B21: 1. voor label E, F of G
A22: extra bijdrag bij verbouwing | B22: nee | D22: voor verduurzamende maatregelen uit de lijst.
D23: =IF(AND(B16>0,B20="ja"),"LET OP: De verhoging voor een niet-kwetsbare groep geldt niet wanneer er een tweede inkomen is opgegeven","")
A24: financieringslastpercentage | B24: =IF(B19="nee",B34,B37) -> 0.201
A25: maximale hypotheek | B25: =(B29*B24/12)/B31+B43+SUM(B44:B45) -> 127039.16
A26: factor | B26: =B25/B29 -> 4.3064122
A28: rekeninkomen | B28: =MAX(IF(ISBLANK(B15),0,B15),IF(ISBLANK(B16),0,B16))+MIN(IF(ISBLANK(B15),0,B15),IF(ISBLANK(B16),0,B16))*'overige parameters'!F23 -> 29500
A29: gezamenlijk inkomen | B29: =B15+B16 -> 29500
A30: rente per duizend per maand | B30: =B17/12 -> 0.0029166667
A31: annuiteitenfactor | B31: =B30*POWER(B30+1,360)/(POWER(B30+1,360)-1) -> 0.0044904469
A32: financieringslastpercentage nietAOW | B32: =INDEX(nietAOW!A5:M193,MATCH(B41,nietAOW!A5:A193),MATCH(B17,nietAOW!A4:M4)) -> 0.193
A33: financieringslastpercentage welAOW | B33: =INDEX(welAOW!A5:M195,MATCH(B42,welAOW!A5:A195),MATCH(B17,welAOW!A4:M4)) -> 0.201
A34: financieringslastpercentage box1 | B34: =IF(B18="nee",B32,B33) -> 0.201
A35: finlastperc box 3 tabel nietAOW | B35: =INDEX('box3 nietAOW'!A5:M194,MATCH(B41,'box3 nietAOW'!A5:A194),MATCH(B17,'box3 nietAOW'!A4:M4)) -> 0.149
A36: finlastperc box 3 tabel welAOW | B36: =INDEX('box3 welAOW'!A5:M195,MATCH(B42,'box3 welAOW'!A5:A195),MATCH(B17,'box3 welAOW'!A4:M4)) -> 0.19
A37: finlastperc box 3 tabel | B37: =IF(B18="nee",B35,B36) -> 0.19
A38: startrente | B38: 0.015
A39: startinkomen nietAOW | B39: 30000
A40: startinkomen welAOW | B40: 29000
A41: rekeninkomen hulp nietAOW | B41: =MAX(B39,B15+B16*'overige parameters'!F23) -> 30000
A42: rekeninkomen hulp welAOW | B42: =MAX(B40,B15+B16*'overige parameters'!F23) -> 29500
A43: verhoging niet-kwetsbare groep | B43: =IF(B18="nee",IF(OR(B16>0,B15<=B39),0,1),IF(OR(B16>0,B15<=B40),0,1))*IF(B20="ja",1,0)*'overige parameters'!C26 -> 17000
A44: verhoging bij aangaan hypotheek | B44: =LOOKUP(B21,'overige parameters'!B3:C10) -> 0
A45: verhoging bij verbouwing | B45: =IF(B22="ja",LOOKUP(B21,'overige parameters'!B13:C20),0) -> 0

Sheet nietAOW
A1: Financieringslastpercentages voor 2026 voor niet-AOW-gerechtigden | O1: Maximale hypotheek | AC1: Factor lening/inkomen
A3: toetsrente | B3: <=1,500% | C3: 1,501-2,000% | D3: 2,001-2,500% | E3: 2,501-3,000% | F3: 3,001-3,500% | G3: 3,501-4,000% | H3: 4,001-4,500% | I3: 4,501-5,000% | J3: 5,001-5,500% | K3: 5,501-6,000% | L3: 6,001-6,500% | M3: >= 6,501% | O3: rente | P3: 0.0125 | Q3: 0.0175 | R3: 0.0225 | S3: 0.0275 | T3: 0.0325 | U3: 0.0375 | V3: 0.0425 | W3: 0.0475 | X3: 0.0525 | Y3: 0.0575 | Z3: 0.0625 | AA3: 0.0675 | AC3: rente | AD3: 0.0125 | AE3: 0.0175 | AF3: 0.0225 | AG3: 0.0275 | AH3: 0.0325 | AI3: 0.0375 | AJ3: 0.0425 | AK3: 0.0475 | AL3: 0.0525 | AM3: 0.0575 | AN3: 0.0625 | AO3: 0.0675
A4: bruto inkomen | B4: 0 | C4: =toelichting!B38+0.00001 -> 0.01501 | D4: =C4+0.5% -> 0.02001 | E4: =D4+0.5% -> 0.02501 | F4: =E4+0.5% -> 0.03001 | G4: =F4+0.5% -> 0.03501 | H4: =G4+0.5% -> 0.04001 | I4: =H4+0.5% -> 0.04501 | J4: =I4+0.5% -> 0.05001 | K4: =J4+0.5% -> 0.05501 | ... M4: =L4+0.5% -> 0.06501 | O4: bruto inkomen | AC4: bruto inkomen
A5: - | B5: 0.155 | C5: 0.165 | D5: 0.175 | E5: 0.184 | F5: 0.193 | G5: 0.201 | H5: 0.209 | I5: 0.216 | J5: 0.222 | K5: 0.227 | L5: 0.232 | M5: 0.237
A6: 30000 | B6: 0.155 | C6: 0.165 | D6: 0.175 | E6: 0.184 | F6: 0.193 | G6: 0.201 | H6: 0.209 | I6: 0.216 | J6: 0.222 | K6: 0.227 | L6: 0.232 | M6: 0.237 | O6: 30000 | P6: 116278.48 | Q6: 115467.48 | R6: 114455.06 | S6: 112678.49 | T6: 110866.96 | U6: 108504.23 | V6: 106212.16 | W6: 103518.21 | X6: 100506.39 | Y6: 97245.784 | Z6: 94199.09 | AA6: 91350.869 | AC6: 30000 | AD6: =P6/$O6 -> 3.8759494 | AE6: =Q6/$O6 -> 3.8489159 | AF6: =R6/$O6 -> 3.8151686 | AG6: =S6/$O6 -> 3.7559497 | AH6: =T6/$O6 -> 3.6955652 | AI6: =U6/$O6 -> 3.6168076 | AJ6: =V6/$O6 -> 3.5404054 | AK6: =W6/$O6 -> 3.4506071 | ... AO6: =AA6/$O6 -> 3.045029
A7: 31000 | B7: 0.162 | C7: 0.173 | D7: 0.183 | E7: 0.193 | F7: 0.202 | G7: 0.212 | H7: 0.22 | I7: 0.227 | J7: 0.234 | K7: 0.241 | L7: 0.246 | M7: 0.251 | O7: 31000 | P7: 125580.76 | Q7: 125101.43 | R7: 123676.87 | S7: 122129.6 | T7: 119904.82 | U7: 118257.01 | V7: 115529.02 | W7: 112416.31 | X7: 109470.47 | Y7: 106684.77 | Z7: 103212.97 | AA7: 99972.027 | AC7: 31000 | AD7: =P7/$O7 -> 4.0509923 | AE7: =Q7/$O7 -> 4.03553 | AF7: =R7/$O7 -> 3.9895763 | AG7: =S7/$O7 -> 3.9396646 | AH7: =T7/$O7 -> 3.8678973 | AI7: =U7/$O7 -> 3.8147424 | AJ7: =V7/$O7 -> 3.7267426 | AK7: =W7/$O7 -> 3.6263325 | ... AO7: =AA7/$O7 -> 3.2249041
A8: 32000 | B8: 0.167 | C8: 0.179 | D8: 0.19 | E8: 0.201 | F8: 0.211 | G8: 0.221 | H8: 0.23 | I8: 0.238 | J8: 0.246 | K8: 0.253 | L8: 0.259 | M8: 0.264 | O8: 32000 | P8: 133632.73 | Q8: 133615.7 | R8: 132549.86 | S8: 131294.94 | T8: 129287.34 | U8: 127254.05 | V8: 124676.48 | W8: 121665.85 | X8: 118796.74 | Y8: 115609.67 | Z8: 112172.71 | AA8: 108541.79 | AC8: 32000 | AD8: =P8/$O8 -> 4.1760229 | AE8: =Q8/$O8 -> 4.1754906 | AF8: =R8/$O8 -> 4.1421831 | AG8: =S8/$O8 -> 4.1029668 | AH8: =T8/$O8 -> 4.0402293 | AI8: =U8/$O8 -> 3.976689 | AJ8: =V8/$O8 -> 3.89614 | AK8: =W8/$O8 -> 3.8020578 | ... AO8: =AA8/$O8 -> 3.391931
A9: 33000 | B9: 0.171 | C9: 0.183 | D9: 0.195 | E9: 0.206 | F9: 0.216 | G9: 0.226 | H9: 0.236 | I9: 0.246 | J9: 0.254 | K9: 0.261 | L9: 0.268 | M9: 0.274 | O9: 33000 | P9: 140284.36 | Q9: 140870.32 | R9: 140289.2 | S9: 138766.01 | T9: 136486.99 | U9: 134199.76 | V9: 131926.69 | W9: 129685.32 | X9: 126493.18 | Y9: 122992.36 | Z9: 119697.81 | AA9: 116173.64 | AC9: 33000 | AD9: =P9/$O9 -> 4.2510413 | AE9: =Q9/$O9 -> 4.2687977 | AF9: =R9/$O9 -> 4.2511879 | AG9: =S9/$O9 -> 4.2050306 | AH9: =T9/$O9 -> 4.1359694 | AI9: =U9/$O9 -> 4.0666593 | AJ9: =V9/$O9 -> 3.9977784 | AK9: =W9/$O9 -> 3.9298581 | ... AO9: =AA9/$O9 -> 3.5204133
A10: 34000 | B10: 0.173 | C10: 0.185 | D10: 0.196 | E10: 0.206 | F10: 0.216 | G10: 0.226 | H10: 0.236 | I10: 0.246 | J10: 0.255 | K10: 0.264 | L10: 0.273 | M10: 0.281 | O10: 34000 | P10: 147086.03 | Q10: 146725.34 | R10: 145281.62 | S10: 142971.04 | T10: 140622.96 | U10: 138266.42 | V10: 135924.47 | W10: 133615.17 | X10: 130839.4 | Y10: 128175.94 | Z10: 125625.86 | AA10: 122751.93 | AC10: 34000 | AD10: =P10/$O10 -> 4.3260597 | AE10: =Q10/$O10 -> 4.3154512 | AF10: =R10/$O10 -> 4.2729889 | AG10: =S10/$O10 -> 4.2050306 | AH10: =T10/$O10 -> 4.1359694 | AI10: =U10/$O10 -> 4.0666593 | AJ10: =V10/$O10 -> 3.9977784 | AK10: =W10/$O10 -> 3.9298581 | ... AO10: =AA10/$O10 -> 3.6103508
A11: 35000 | B11: 0.174 | C11: 0.185 | D11: 0.196 | E11: 0.206 | F11: 0.216 | G11: 0.226 | H11: 0.236 | I11: 0.246 | J11: 0.255 | K11: 0.264 | L11: 0.273 | M11: 0.281 | O11: 35000 | P11: 152287.3 | Q11: 151040.79 | R11: 149554.61 | S11: 147176.07 | T11: 144758.93 | U11: 142333.08 | V11: 139922.24 | W11: 137545.03 | X11: 134687.62 | Y11: 131945.82 | Z11: 129320.73 | AA11: 126362.28 | AC11: 35000 | AD11: =P11/$O11 -> 4.3510658 | AE11: =Q11/$O11 -> 4.3154512 | AF11: =R11/$O11 -> 4.2729889 | AG11: =S11/$O11 -> 4.2050306 | AH11: =T11/$O11 -> 4.1359694 | AI11: =U11/$O11 -> 4.0666593 | AJ11: =V11/$O11 -> 3.9977784 | AK11: =W11/$O11 -> 3.9298581 | ... AO11: =AA11/$O11 -> 3.6103508
A12: 36000 | B12: 0.174 | C12: 0.185 | D12: 0.196 | E12: 0.206 | F12: 0.216 | G12: 0.226 | H12: 0.236 | I12: 0.246 | J12: 0.255 | K12: 0.264 | L12: 0.273 | M12: 0.281 | O12: 36000 | P12: 156638.37 | Q12: 155356.24 | R12: 153827.6 | S12: 151381.1 | T12: 148894.9 | U12: 146399.74 | V12: 143920.02 | W12: 141474.89 | X12: 138535.83 | Y12: 135715.7 | Z12: 133015.61 | AA12: 129972.63 | AC12: 36000 | AD12: =P12/$O12 -> 4.3510658 | AE12: =Q12/$O12 -> 4.3154512 | AF12: =R12/$O12 -> 4.2729889 | AG12: =S12/$O12 -> 4.2050306 | AH12: =T12/$O12 -> 4.1359694 | AI12: =U12/$O12 -> 4.0666593 | AJ12: =V12/$O12 -> 3.9977784 | AK12: =W12/$O12 -> 3.9298581 | ... AO12: =AA12/$O12 -> 3.6103508
A13: 37000 | B13: 0.174 | C13: 0.185 | D13: 0.196 | E13: 0.206 | F13: 0.216 | G13: 0.226 | H13: 0.236 | I13: 0.246 | J13: 0.255 | K13: 0.264 | L13: 0.273 | M13: 0.281 | O13: 37000 | P13: 160989.43 | Q13: 159671.69 | R13: 158100.59 | S13: 155586.13 | T13: 153030.87 | U13: 150466.39 | V13: 147917.8 | W13: 145404.75 | X13: 142384.05 | Y13: 139485.58 | Z13: 136710.49 | AA13: 133582.98 | AC13: 37000 | AD13: =P13/$O13 -> 4.3510658 | AE13: =Q13/$O13 -> 4.3154512 | AF13: =R13/$O13 -> 4.2729889 | AG13: =S13/$O13 -> 4.2050306 | AH13: =T13/$O13 -> 4.1359694 | AI13: =U13/$O13 -> 4.0666593 | AJ13: =V13/$O13 -> 3.9977784 | AK13: =W13/$O13 -> 3.9298581 | ... AO13: =AA13/$O13 -> 3.6103508
A14: 38000 | B14: 0.174 | C14: 0.185 | D14: 0.196 | E14: 0.206 | F14: 0.216 | G14: 0.226 | H14: 0.236 | I14: 0.246 | J14: 0.255 | K14: 0.264 | L14: 0.273 | M14: 0.281 | O14: 38000 | P14: 165340.5 | Q14: 163987.15 | R14: 162373.58 | S14: 159791.16 | T14: 157166.84 | U14: 154533.05 | V14: 151915.58 | W14: 149334.61 | X14: 146232.27 | Y14: 143255.46 | Z14: 140405.37 | AA14: 137193.33 | AC14: 38000 | AD14: =P14/$O14 -> 4.3510658 | AE14: =Q14/$O14 -> 4.3154512 | AF14: =R14/$O14 -> 4.2729889 | AG14: =S14/$O14 -> 4.2050306 | AH14: =T14/$O14 -> 4.1359694 | AI14: =U14/$O14 -> 4.0666593 | AJ14: =V14/$O14 -> 3.9977784 | AK14: =W14/$O14 -> 3.9298581 | ... AO14: =AA14/$O14 -> 3.6103508
A15: 39000 | B15: 0.174 | C15: 0.185 | D15: 0.196 | E15: 0.206 | F15: 0.216 | G15: 0.226 | H15: 0.236 | I15: 0.246 | J15: 0.255 | K15: 0.264 | L15: 0.273 | M15: 0.281 | O15: 39000 | P15: 169691.57 | Q15: 168302.6 | R15: 166646.57 | S15: 163996.19 | T15: 161302.8 | U15: 158599.71 | V15: 155913.36 | W15: 153264.47 | X15: 150080.49 | Y15: 147025.34 | Z15: 144100.25 | AA15: 140803.68 | AC15: 39000 | AD15: =P15/$O15 -> 4.3510658 | AE15: =Q15/$O15 -> 4.3154512 | AF15: =R15/$O15 -> 4.2729889 | AG15: =S15/$O15 -> 4.2050306 | AH15: =T15/$O15 -> 4.1359694 | AI15: =U15/$O15 -> 4.0666593 | AJ15: =V15/$O15 -> 3.9977784 | AK15: =W15/$O15 -> 3.9298581 | ... AO15: =AA15/$O15 -> 3.6103508
A16: 40000 | B16: 0.174 | C16: 0.185 | D16: 0.196 | E16: 0.206 | F16: 0.216 | G16: 0.226 | H16: 0.236 | I16: 0.246 | J16: 0.255 | K16: 0.264 | L16: 0.273 | M16: 0.281 | O16: 40000 | P16: 174042.63 | Q16: 172618.05 | R16: 170919.55 | S16: 168201.22 | T16: 165438.77 | U16: 162666.37 | V16: 159911.14 | W16: 157194.32 | X16: 153928.7 | Y16: 150795.22 | Z16: 147795.12 | AA16: 144414.03 | AC16: 40000 | AD16: =P16/$O16 -> 4.3510658 | AE16: =Q16/$O16 -> 4.3154512 | AF16: =R16/$O16 -> 4.2729889 | AG16: =S16/$O16 -> 4.2050306 | AH16: =T16/$O16 -> 4.1359694 | AI16: =U16/$O16 -> 4.0666593 | AJ16: =V16/$O16 -> 3.9977784 | AK16: =W16/$O16 -> 3.9298581 | ... AO16: =AA16/$O16 -> 3.6103508
A17: 41000 | B17: 0.174 | C17: 0.185 | D17: 0.196 | E17: 0.206 | F17: 0.216 | G17: 0.226 | H17: 0.236 | I17: 0.246 | J17: 0.255 | K17: 0.264 | L17: 0.273 | M17: 0.281 | O17: 41000 | P17: 178393.7 | Q17: 176933.5 | R17: 175192.54 | S17: 172406.26 | T17: 169574.74 | U17: 166733.03 | V17: 163908.91 | W17: 161124.18 | X17: 157776.92 | Y17: 154565.11 | Z17: 151490 | AA17: 148024.38 | AC17: 41000 | AD17: =P17/$O17 -> 4.3510658 | AE17: =Q17/$O17 -> 4.3154512 | AF17: =R17/$O17 -> 4.2729889 | AG17: =S17/$O17 -> 4.2050306 | AH17: =T17/$O17 -> 4.1359694 | AI17: =U17/$O17 -> 4.0666593 | AJ17: =V17/$O17 -> 3.9977784 | AK17: =W17/$O17 -> 3.9298581 | ... AO17: =AA17/$O17 -> 3.6103508
... A101: 125000 | B101: 0.222 | C101: 0.233 | D101: 0.244 | E101: 0.255 | F101: 0.265 | G101: 0.274 | H101: 0.283 | I101: 0.292 | J101: 0.3 | K101: 0.308 | L101: 0.315 | M101: 0.322 | O101: 125000 | P101: 693919.97 | Q101: 679391.98 | R101: 664929.39 | S101: 650657.04 | T101: 634277.71 | U101: 616296.82 | V101: 599243.27 | W101: 583088.7 | X101: 565914.35 | Y101: 549774.26 | Z101: 532915.11 | AA101: 517141 | AC101: 125000 | AD101: =P101/$O101 -> 5.5513598 | AE101: =Q101/$O101 -> 5.4351358 | AF101: =R101/$O101 -> 5.3194351 | AG101: =S101/$O101 -> 5.2052564 | AH101: =T101/$O101 -> 5.0742217 | AI101: =U101/$O101 -> 4.9303746 | AJ101: =V101/$O101 -> 4.7939461 | AK101: =W101/$O101 -> 4.6647096 | ... AO101: =AA101/$O101 -> 4.137128

Sheet welAOW
A1: Financieringslastpercentages voor 2026 voor AOW-gerechtigden | O1: Maximale hypotheek | AC1: Factor lening/inkomen
A3: toetsrente | B3: <=1,500% | C3: 1,501-2,000% | D3: 2,001-2,500% | E3: 2,501-3,000% | F3: 3,001-3,500% | G3: 3,501-4,000% | H3: 4,001-4,500% | I3: 4,501-5,000% | J3: 5,001-5,500% | K3: 5,501-6,000% | L3: 6,001-6,500% | M3: >= 6,501% | O3: rente | P3: 0.0125 | Q3: 0.0175 | R3: 0.0225 | S3: 0.0275 | T3: 0.0325 | U3: 0.0375 | V3: 0.0425 | W3: 0.0475 | X3: 0.0525 | Y3: 0.0575 | Z3: 0.0625 | AA3: 0.0675 | AC3: rente | AD3: 0.0125 | AE3: 0.0175 | AF3: 0.0225 | AG3: 0.0275 | AH3: 0.0325 | AI3: 0.0375 | AJ3: 0.0425 | AK3: 0.0475 | AL3: 0.0525 | AM3: 0.0575 | AN3: 0.0625 | AO3: 0.0675
A4: bruto inkomen | B4: 0 | C4: =toelichting!B38+0.00001 -> 0.01501 | D4: =C4+0.5% -> 0.02001 | E4: =D4+0.5% -> 0.02501 | F4: =E4+0.5% -> 0.03001 | G4: =F4+0.5% -> 0.03501 | H4: =G4+0.5% -> 0.04001 | I4: =H4+0.5% -> 0.04501 | J4: =I4+0.5% -> 0.05001 | K4: =J4+0.5% -> 0.05501 | ... M4: =L4+0.5% -> 0.06501 | O4: bruto inkomen | AC4: bruto inkomen
A5: - | B5: 0.185 | C5: 0.189 | D5: 0.194 | E5: 0.197 | F5: 0.201 | G5: 0.204 | H5: 0.207 | I5: 0.209 | J5: 0.211 | K5: 0.213 | L5: 0.215 | M5: 0.217
A6: 29000 | B6: 0.185 | C6: 0.189 | D6: 0.194 | E6: 0.197 | F6: 0.201 | G6: 0.204 | H6: 0.207 | I6: 0.209 | J6: 0.211 | K6: 0.213 | L6: 0.215 | M6: 0.217 | O6: 29000 | P6: 134157.86 | Q6: 127853.99 | R6: 122652.22 | S6: 116618.16 | T6: 111613.73 | U6: 106452.9 | V6: 101689.25 | W6: 96824.674 | X6: 92342.131 | Y6: 88206.639 | Z6: 84386.685 | AA6: 80853.871 | AC6: 29000 | AD6: =P6/$O6 -> 4.6261332 | AE6: =Q6/$O6 -> 4.4087583 | AF6: =R6/$O6 -> 4.2293869 | AG6: =S6/$O6 -> 4.0213157 | AH6: =T6/$O6 -> 3.8487493 | AI6: =U6/$O6 -> 3.6707898 | AJ6: =V6/$O6 -> 3.506526 | AK6: =W6/$O6 -> 3.3387819 | ... AO6: =AA6/$O6 -> 2.7880645
A7: 30000 | B7: 0.192 | C7: 0.198 | D7: 0.203 | E7: 0.208 | F7: 0.211 | G7: 0.215 | H7: 0.218 | I7: 0.221 | J7: 0.223 | K7: 0.225 | L7: 0.227 | M7: 0.229 | O7: 30000 | P7: 144035.28 | Q7: 138560.97 | R7: 132767.87 | S7: 127375.68 | T7: 121206.88 | U7: 116061.74 | V7: 110785.89 | W7: 105914.47 | X7: 100959.12 | Y7: 96388.993 | Z7: 92168.937 | AA7: 88267.296 | AC7: 30000 | AD7: =P7/$O7 -> 4.801176 | AE7: =Q7/$O7 -> 4.6186991 | AF7: =R7/$O7 -> 4.4255956 | AG7: =S7/$O7 -> 4.2458562 | AH7: =T7/$O7 -> 4.0402293 | AI7: =U7/$O7 -> 3.8687246 | AJ7: =V7/$O7 -> 3.6928631 | AK7: =W7/$O7 -> 3.5304823 | ... AO7: =AA7/$O7 -> 2.9422432
A8: 31000 | B8: 0.199 | C8: 0.206 | D8: 0.212 | E8: 0.217 | F8: 0.221 | G8: 0.225 | H8: 0.228 | I8: 0.231 | J8: 0.234 | K8: 0.237 | L8: 0.239 | M8: 0.241 | O8: 31000 | P8: 154262.79 | Q8: 148964.71 | R8: 143275.93 | S8: 137316.7 | T8: 131182.99 | U8: 125508.62 | V8: 119730.07 | W8: 114397.21 | X8: 109470.47 | Y8: 104914.06 | Z8: 100276.01 | AA8: 95989.078 | AC8: 31000 | AD8: =P8/$O8 -> 4.9762189 | AE8: =Q8/$O8 -> 4.8053132 | AF8: =R8/$O8 -> 4.6218043 | AG8: =S8/$O8 -> 4.4295711 | AH8: =T8/$O8 -> 4.2317094 | AI8: =U8/$O8 -> 4.0486652 | AJ8: =V8/$O8 -> 3.8622605 | AK8: =W8/$O8 -> 3.6902326 | ... AO8: =AA8/$O8 -> 3.0964219
A9: 32000 | B9: 0.205 | C9: 0.212 | D9: 0.218 | E9: 0.224 | F9: 0.23 | G9: 0.234 | H9: 0.238 | I9: 0.241 | J9: 0.244 | K9: 0.247 | L9: 0.249 | M9: 0.252 | O9: 32000 | P9: 164040.18 | Q9: 158248.76 | R9: 152083.52 | S9: 146318.74 | T9: 140929.33 | U9: 134739.58 | V9: 129013.05 | W9: 123199.45 | X9: 117830.91 | Y9: 112867.94 | Z9: 107841.72 | AA9: 103608.07 | AC9: 32000 | AD9: =P9/$O9 -> 5.1262557 | AE9: =Q9/$O9 -> 4.9452738 | AF9: =R9/$O9 -> 4.75261 | AG9: =S9/$O9 -> 4.5724605 | AH9: =T9/$O9 -> 4.4040414 | AI9: =U9/$O9 -> 4.2106119 | AJ9: =V9/$O9 -> 4.0316579 | AK9: =W9/$O9 -> 3.8499829 | ... AO9: =AA9/$O9 -> 3.2377523
A10: 33000 | B10: 0.209 | C10: 0.217 | D10: 0.223 | E10: 0.229 | F10: 0.235 | G10: 0.24 | H10: 0.245 | I10: 0.248 | J10: 0.252 | K10: 0.255 | L10: 0.257 | M10: 0.26 | O10: 33000 | P10: 172467.25 | Q10: 167042.95 | R10: 160433.29 | S10: 154259.3 | T10: 148492.79 | U10: 142513.02 | V10: 136957.79 | W10: 130739.67 | X10: 125497.17 | Y10: 120164.94 | Z10: 114784.84 | AA10: 110237.76 | AC10: 33000 | AD10: =P10/$O10 -> 5.2262802 | AE10: =Q10/$O10 -> 5.0619076 | AF10: =R10/$O10 -> 4.8616149 | AG10: =S10/$O10 -> 4.6745243 | AH10: =T10/$O10 -> 4.4997815 | AI10: =U10/$O10 -> 4.3185763 | AJ10: =V10/$O10 -> 4.150236 | AK10: =W10/$O10 -> 3.9618081 | ... AO10: =AA10/$O10 -> 3.3405381
A11: 34000 | B11: 0.212 | C11: 0.22 | D11: 0.228 | E11: 0.234 | F11: 0.24 | G11: 0.245 | H11: 0.251 | I11: 0.255 | J11: 0.259 | K11: 0.262 | L11: 0.265 | M11: 0.267 | O11: 34000 | P11: 180244.15 | Q11: 174484.19 | R11: 169001.07 | S11: 162404 | T11: 156247.73 | U11: 149890.58 | V11: 144563.73 | W11: 138503.53 | X11: 132891.78 | Y11: 127204.91 | Z11: 121944.51 | AA11: 116636.17 | AC11: 34000 | AD11: =P11/$O11 -> 5.3012985 | AE11: =Q11/$O11 -> 5.1318879 | AF11: =R11/$O11 -> 4.9706197 | AG11: =S11/$O11 -> 4.7765882 | AH11: =T11/$O11 -> 4.5955215 | AI11: =U11/$O11 -> 4.4085466 | AJ11: =V11/$O11 -> 4.2518745 | AK11: =W11/$O11 -> 4.0736334 | ... AO11: =AA11/$O11 -> 3.4304757
A12: 35000 | B12: 0.216 | C12: 0.224 | D12: 0.231 | E12: 0.239 | F12: 0.245 | G12: 0.251 | H12: 0.256 | I12: 0.261 | J12: 0.265 | K12: 0.269 | L12: 0.272 | M12: 0.275 | O12: 35000 | P12: 189046.31 | Q12: 182881.82 | R12: 176260.79 | S12: 170752.82 | T12: 164194.15 | U12: 158077.89 | V12: 151780.06 | W12: 145931.93 | X12: 139969.48 | Y12: 134444.8 | Z12: 128847.03 | AA12: 123664.15 | AC12: 35000 | AD12: =P12/$O12 -> 5.401323 | AE12: =Q12/$O12 -> 5.225195 | AF12: =R12/$O12 -> 5.0360226 | AG12: =S12/$O12 -> 4.878652 | AH12: =T12/$O12 -> 4.6912615 | AI12: =U12/$O12 -> 4.516511 | AJ12: =V12/$O12 -> 4.3365732 | AK12: =W12/$O12 -> 4.1694836 | ... AO12: =AA12/$O12 -> 3.5332615
A13: 36000 | B13: 0.218 | C13: 0.227 | D13: 0.235 | E13: 0.243 | F13: 0.249 | G13: 0.256 | H13: 0.261 | I13: 0.266 | J13: 0.271 | K13: 0.275 | L13: 0.279 | M13: 0.282 | O13: 36000 | P13: 196248.07 | Q13: 190626.31 | R13: 184436.15 | S13: 178570.91 | T13: 171642.73 | U13: 165833.33 | V13: 159165.79 | W13: 152976.91 | X13: 147228.28 | Y13: 141370.52 | Z13: 135939.03 | AA13: 130435.17 | AC13: 36000 | AD13: =P13/$O13 -> 5.4513353 | AE13: =Q13/$O13 -> 5.2951753 | AF13: =R13/$O13 -> 5.1232264 | AG13: =S13/$O13 -> 4.9603031 | AH13: =T13/$O13 -> 4.7678536 | AI13: =U13/$O13 -> 4.6064813 | AJ13: =V13/$O13 -> 4.4212719 | AK13: =W13/$O13 -> 4.2493587 | ... AO13: =AA13/$O13 -> 3.623199
A14: 37000 | B14: 0.219 | C14: 0.229 | D14: 0.238 | E14: 0.246 | F14: 0.253 | G14: 0.26 | H14: 0.266 | I14: 0.271 | J14: 0.275 | K14: 0.28 | L14: 0.284 | M14: 0.288 | O14: 37000 | P14: 202624.63 | Q14: 197647.67 | R14: 191979.28 | S14: 185797.03 | T14: 179244.49 | U14: 173102.93 | V14: 166720.91 | W14: 160181.65 | X14: 153551.43 | Y14: 147939.25 | Z14: 142218.97 | AA14: 136910.67 | AC14: 37000 | AD14: =P14/$O14 -> 5.4763414 | AE14: =Q14/$O14 -> 5.3418288 | AF14: =R14/$O14 -> 5.1886293 | AG14: =S14/$O14 -> 5.0215414 | AH14: =T14/$O14 -> 4.8444456 | AI14: =U14/$O14 -> 4.6784576 | AJ14: =V14/$O14 -> 4.5059706 | AK14: =W14/$O14 -> 4.3292339 | ... AO14: =AA14/$O14 -> 3.7002884
A15: 38000 | B15: 0.22 | C15: 0.231 | D15: 0.24 | E15: 0.249 | F15: 0.257 | G15: 0.263 | H15: 0.27 | I15: 0.275 | J15: 0.28 | K15: 0.284 | L15: 0.289 | M15: 0.292 | O15: 38000 | P15: 209051.21 | Q15: 204762.33 | R15: 198824.79 | S15: 193145.63 | T15: 186999.43 | U15: 179832.71 | V15: 173801.72 | W15: 166939.09 | X15: 160568.77 | Y15: 154108.15 | Z15: 148634.25 | AA15: 142563.89 | AC15: 38000 | AD15: =P15/$O15 -> 5.5013475 | AE15: =Q15/$O15 -> 5.3884823 | AF15: =R15/$O15 -> 5.2322312 | AG15: =S15/$O15 -> 5.0827797 | AH15: =T15/$O15 -> 4.9210376 | AI15: =U15/$O15 -> 4.7324398 | AJ15: =V15/$O15 -> 4.5737295 | AK15: =W15/$O15 -> 4.393134 | ... AO15: =AA15/$O15 -> 3.7516813
A16: 39000 | B16: 0.221 | C16: 0.232 | D16: 0.242 | E16: 0.251 | F16: 0.259 | G16: 0.266 | H16: 0.273 | I16: 0.279 | J16: 0.284 | K16: 0.289 | L16: 0.293 | M16: 0.297 | O16: 39000 | P16: 215527.79 | Q16: 211060.55 | R16: 205757.49 | S16: 199820.61 | T16: 193414.01 | U16: 186670.46 | V16: 180357.4 | W16: 173824.33 | X16: 167148.46 | Y16: 160948.2 | Z16: 154657.04 | AA16: 148820.97 | AC16: 39000 | AD16: =P16/$O16 -> 5.5263537 | AE16: =Q16/$O16 -> 5.4118091 | AF16: =R16/$O16 -> 5.2758332 | AG16: =S16/$O16 -> 5.1236053 | AH16: =T16/$O16 -> 4.9593336 | AI16: =U16/$O16 -> 4.786422 | AJ16: =V16/$O16 -> 4.6245487 | AK16: =W16/$O16 -> 4.4570342 | ... AO16: =AA16/$O16 -> 3.8159224
A17: 40000 | B17: 0.222 | C17: 0.233 | D17: 0.243 | E17: 0.252 | F17: 0.261 | G17: 0.269 | H17: 0.276 | I17: 0.282 | J17: 0.288 | K17: 0.293 | L17: 0.297 | M17: 0.301 | O17: 40000 | P17: 222054.39 | Q17: 217405.43 | R17: 211905.37 | S17: 205760.72 | T17: 199905.19 | U17: 193616.17 | V17: 187014.72 | W17: 180198.37 | X17: 173848.89 | Y17: 167359.85 | Z17: 160788.1 | AA17: 154692.61 | AC17: 40000 | AD17: =P17/$O17 -> 5.5513598 | AE17: =Q17/$O17 -> 5.4351358 | AF17: =R17/$O17 -> 5.2976341 | AG17: =S17/$O17 -> 5.144018 | AH17: =T17/$O17 -> 4.9976296 | AI17: =U17/$O17 -> 4.8404042 | AJ17: =V17/$O17 -> 4.6753679 | AK17: =W17/$O17 -> 4.5049593 | ... AO17: =AA17/$O17 -> 3.8673153
... A87: 110000 | B87: 0.284 | C87: 0.298 | D87: 0.312 | E87: 0.325 | F87: 0.338 | G87: 0.351 | H87: 0.363 | I87: 0.375 | J87: 0.386 | K87: 0.396 | L87: 0.406 | M87: 0.417 | O87: 110000 | P87: 781191.35 | Q87: 764651.3 | R87: 748209.07 | S87: 729756.53 | T87: 711922.87 | U87: 694750.96 | V87: 676403.78 | W87: 658970.1 | X87: 640765.96 | Y87: 622030.3 | Z87: 604444.16 | AA87: 589348.01 | AC87: 110000 | AD87: =P87/$O87 -> 7.1017396 | AE87: =Q87/$O87 -> 6.9513755 | AF87: =R87/$O87 -> 6.8019006 | AG87: =S87/$O87 -> 6.6341503 | AH87: =T87/$O87 -> 6.4720261 | AI87: =U87/$O87 -> 6.3159178 | AJ87: =V87/$O87 -> 6.1491252 | AK87: =W87/$O87 -> 5.9906373 | ... AO87: =AA87/$O87 -> 5.3577092

Sheet box3 nietAOW
A1: Financieringslastpercentages voor 2026 voor niet-aftrekbare gedeelten voor niet-AOW-gerechtigden | O1: Maximale hypotheek | AC1: Factor lening/inkomen
A3: toetsrente | B3: <=1,500% | C3: 1,501-2,000% | D3: 2,001-2,500% | E3: 2,501-3,000% | F3: 3,001-3,500% | G3: 3,501-4,000% | H3: 4,001-4,500% | I3: 4,501-5,000% | J3: 5,001-5,500% | K3: 5,501-6,000% | L3: 6,001-6,500% | M3: >= 6,501% | O3: rente | P3: 0.0125 | Q3: 0.0175 | R3: 0.0225 | S3: 0.0275 | T3: 0.0325 | U3: 0.0375 | V3: 0.0425 | W3: 0.0475 | X3: 0.0525 | Y3: 0.0575 | Z3: 0.0625 | AA3: 0.0675 | AC3: rente | AD3: 0.0125 | AE3: 0.0175 | AF3: 0.0225 | AG3: 0.0275 | AH3: 0.0325 | AI3: 0.0375 | AJ3: 0.0425 | AK3: 0.0475 | AL3: 0.0525 | AM3: 0.0575 | AN3: 0.0625 | AO3: 0.0675
A4: bruto inkomen | B4: 0 | C4: =toelichting!B38+0.00001 -> 0.01501 | D4: =C4+0.5% -> 0.02001 | E4: =D4+0.5% -> 0.02501 | F4: =E4+0.5% -> 0.03001 | G4: =F4+0.5% -> 0.03501 | H4: =G4+0.5% -> 0.04001 | I4: =H4+0.5% -> 0.04501 | J4: =I4+0.5% -> 0.05001 | K4: =J4+0.5% -> 0.05501 | ... M4: =L4+0.5% -> 0.06501 | O4: bruto inkomen | AC4: bruto inkomen
A5: - | B5: 0.14 | C5: 0.142 | D5: 0.145 | E5: 0.147 | F5: 0.149 | G5: 0.151 | H5: 0.152 | I5: 0.154 | J5: 0.156 | K5: 0.157 | L5: 0.158 | M5: 0.16
A6: 30000 | B6: 0.14 | C6: 0.142 | D6: 0.145 | E6: 0.147 | F6: 0.149 | G6: 0.151 | H6: 0.152 | I6: 0.154 | J6: 0.156 | K6: 0.157 | L6: 0.158 | M6: 0.16 | O6: 30000 | P6: 105025.73 | Q6: 99372.012 | R6: 94834.191 | S6: 90020.316 | T6: 85591.588 | U6: 81513.127 | V6: 77245.21 | W6: 73804.652 | X6: 70626.111 | Y6: 67258.097 | Z6: 64152.829 | AA6: 61671.473 | AC6: 30000 | AD6: =P6/$O6 -> 3.5008575 | AE6: =Q6/$O6 -> 3.3124004 | AF6: =R6/$O6 -> 3.1611397 | AG6: =S6/$O6 -> 3.0006772 | AH6: =T6/$O6 -> 2.8530529 | AI6: =U6/$O6 -> 2.7171042 | AJ6: =V6/$O6 -> 2.5748403 | AK6: =W6/$O6 -> 2.4601551 | ... AO6: =AA6/$O6 -> 2.0557158
A7: 31000 | B7: 0.145 | C7: 0.148 | D7: 0.15 | E7: 0.152 | F7: 0.154 | G7: 0.156 | H7: 0.158 | I7: 0.16 | J7: 0.161 | K7: 0.163 | L7: 0.164 | M7: 0.166 | O7: 31000 | P7: 112402.53 | Q7: 107023.19 | R7: 101374.48 | S7: 96184.972 | T7: 91412.582 | U7: 87019.312 | V7: 82970.841 | W7: 79236.163 | X7: 75319.427 | Y7: 72156.086 | Z7: 68808.646 | AA7: 66116.958 | AC7: 31000 | AD7: =P7/$O7 -> 3.6258882 | AE7: =Q7/$O7 -> 3.452361 | AF7: =R7/$O7 -> 3.2701445 | AG7: =S7/$O7 -> 3.102741 | AH7: =T7/$O7 -> 2.948793 | AI7: =U7/$O7 -> 2.8070746 | AJ7: =V7/$O7 -> 2.6764788 | AK7: =W7/$O7 -> 2.5560053 | ... AO7: =AA7/$O7 -> 2.1328051
A8: 32000 | B8: 0.15 | C8: 0.153 | D8: 0.155 | E8: 0.157 | F8: 0.16 | G8: 0.162 | H8: 0.163 | I8: 0.165 | J8: 0.167 | K8: 0.168 | L8: 0.17 | M8: 0.171 | O8: 32000 | P8: 120029.4 | Q8: 114207.83 | R8: 108132.78 | S8: 102553.76 | T8: 98037.792 | U8: 93281.247 | V8: 88357.678 | W8: 84348.173 | X8: 80646.568 | Y8: 76768.478 | Z8: 73626.875 | AA8: 70305.479 | AC8: 32000 | AD8: =P8/$O8 -> 3.7509188 | AE8: =Q8/$O8 -> 3.5689948 | AF8: =R8/$O8 -> 3.3791493 | AG8: =S8/$O8 -> 3.2048049 | AH8: =T8/$O8 -> 3.063681 | AI8: =U8/$O8 -> 2.915039 | AJ8: =V8/$O8 -> 2.7611774 | AK8: =W8/$O8 -> 2.6358804 | ... AO8: =AA8/$O8 -> 2.1970462
A9: 33000 | B9: 0.153 | C9: 0.156 | D9: 0.158 | E9: 0.161 | F9: 0.163 | G9: 0.165 | H9: 0.167 | I9: 0.168 | J9: 0.17 | K9: 0.172 | L9: 0.173 | M9: 0.175 | O9: 33000 | P9: 126255.93 | Q9: 120086.18 | R9: 113670.22 | S9: 108453.05 | T9: 102997.13 | U9: 97977.699 | V9: 93354.901 | W9: 88565.582 | X9: 84660.787 | Y9: 81052.433 | Z9: 77267.616 | AA9: 74198.491 | AC9: 33000 | AD9: =P9/$O9 -> 3.8259372 | AE9: =Q9/$O9 -> 3.6389751 | AF9: =R9/$O9 -> 3.4445522 | AG9: =S9/$O9 -> 3.286456 | AH9: =T9/$O9 -> 3.121125 | AI9: =U9/$O9 -> 2.9690212 | AJ9: =V9/$O9 -> 2.8289364 | AK9: =W9/$O9 -> 2.6838055 | ... AO9: =AA9/$O9 -> 2.2484391
A10: 34000 | B10: 0.156 | C10: 0.158 | D10: 0.161 | E10: 0.163 | F10: 0.165 | G10: 0.167 | H10: 0.169 | I10: 0.171 | J10: 0.173 | K10: 0.174 | L10: 0.176 | M10: 0.177 | O10: 34000 | P10: 132632.49 | Q10: 125311.37 | R10: 119338.47 | S10: 113127.57 | T10: 107420.32 | U10: 102170.32 | V10: 97335.74 | W10: 92878.841 | X10: 88765.552 | Y10: 84479.597 | Z10: 80989.562 | AA10: 77320.609 | AC10: 34000 | AD10: =P10/$O10 -> 3.9009555 | AE10: =Q10/$O10 -> 3.6856286 | AF10: =R10/$O10 -> 3.5099551 | AG10: =S10/$O10 -> 3.3272815 | AH10: =T10/$O10 -> 3.159421 | AI10: =U10/$O10 -> 3.0050093 | AJ10: =V10/$O10 -> 2.8628159 | AK10: =W10/$O10 -> 2.7317306 | ... AO10: =AA10/$O10 -> 2.2741356
A11: 35000 | B11: 0.157 | C11: 0.16 | D11: 0.162 | E11: 0.165 | F11: 0.167 | G11: 0.169 | H11: 0.171 | I11: 0.173 | J11: 0.175 | K11: 0.176 | L11: 0.178 | M11: 0.179 | O11: 35000 | P11: 137408.66 | Q11: 130629.87 | R11: 123611.46 | S11: 117883.75 | T11: 111920.1 | U11: 106434.91 | V11: 101384.34 | W11: 96728.824 | X11: 92432.677 | Y11: 87963.881 | Z11: 84319.013 | AA11: 80494.12 | AC11: 35000 | AD11: =P11/$O11 -> 3.9259617 | AE11: =Q11/$O11 -> 3.7322821 | AF11: =R11/$O11 -> 3.5317561 | AG11: =S11/$O11 -> 3.3681071 | AH11: =T11/$O11 -> 3.197717 | AI11: =U11/$O11 -> 3.0409975 | AJ11: =V11/$O11 -> 2.8966954 | AK11: =W11/$O11 -> 2.7636807 | ... AO11: =AA11/$O11 -> 2.299832
A12: 36000 | B12: 0.159 | C12: 0.161 | D12: 0.164 | E12: 0.166 | F12: 0.169 | G12: 0.171 | H12: 0.173 | I12: 0.174 | J12: 0.176 | K12: 0.178 | L12: 0.179 | M12: 0.181 | O12: 36000 | P12: 143135.06 | Q12: 135201.92 | R12: 128712.89 | S12: 121986.71 | T12: 116496.47 | U12: 110771.48 | V12: 105500.69 | W12: 100067.61 | X12: 95616.889 | Y12: 91505.284 | Z12: 87215.364 | AA12: 83719.025 | AC12: 36000 | AD12: =P12/$O12 -> 3.9759739 | AE12: =Q12/$O12 -> 3.7556089 | AF12: =R12/$O12 -> 3.575358 | AG12: =S12/$O12 -> 3.3885198 | AH12: =T12/$O12 -> 3.2360131 | AI12: =U12/$O12 -> 3.0769856 | AJ12: =V12/$O12 -> 2.9305748 | AK12: =W12/$O12 -> 2.7796557 | ... AO12: =AA12/$O12 -> 2.3255285
A13: 37000 | B13: 0.159 | C13: 0.161 | D13: 0.164 | E13: 0.166 | F13: 0.169 | G13: 0.171 | H13: 0.173 | I13: 0.174 | J13: 0.176 | K13: 0.178 | L13: 0.179 | M13: 0.181 | O13: 37000 | P13: 147111.03 | Q13: 138957.53 | R13: 132288.25 | S13: 125375.23 | T13: 119732.48 | U13: 113848.47 | V13: 108431.27 | W13: 102847.26 | X13: 98272.914 | Y13: 94047.098 | Z13: 89638.013 | AA13: 86044.553 | AC13: 37000 | AD13: =P13/$O13 -> 3.9759739 | AE13: =Q13/$O13 -> 3.7556089 | AF13: =R13/$O13 -> 3.575358 | AG13: =S13/$O13 -> 3.3885198 | AH13: =T13/$O13 -> 3.2360131 | AI13: =U13/$O13 -> 3.0769856 | AJ13: =V13/$O13 -> 2.9305748 | AK13: =W13/$O13 -> 2.7796557 | ... AO13: =AA13/$O13 -> 2.3255285
A14: 38000 | B14: 0.159 | C14: 0.161 | D14: 0.164 | E14: 0.166 | F14: 0.169 | G14: 0.171 | H14: 0.173 | I14: 0.174 | J14: 0.176 | K14: 0.178 | L14: 0.179 | M14: 0.181 | O14: 38000 | P14: 151087.01 | Q14: 142713.14 | R14: 135863.6 | S14: 128763.75 | T14: 122968.5 | U14: 116925.45 | V14: 111361.84 | W14: 105626.92 | X14: 100928.94 | Y14: 96588.911 | Z14: 92060.662 | AA14: 88370.082 | AC14: 38000 | AD14: =P14/$O14 -> 3.9759739 | AE14: =Q14/$O14 -> 3.7556089 | AF14: =R14/$O14 -> 3.575358 | AG14: =S14/$O14 -> 3.3885198 | AH14: =T14/$O14 -> 3.2360131 | AI14: =U14/$O14 -> 3.0769856 | AJ14: =V14/$O14 -> 2.9305748 | AK14: =W14/$O14 -> 2.7796557 | ... AO14: =AA14/$O14 -> 2.3255285
A15: 39000 | B15: 0.159 | C15: 0.161 | D15: 0.164 | E15: 0.166 | F15: 0.169 | G15: 0.171 | H15: 0.173 | I15: 0.174 | J15: 0.176 | K15: 0.178 | L15: 0.179 | M15: 0.181 | O15: 39000 | P15: 155062.98 | Q15: 146468.75 | R15: 139438.96 | S15: 132152.27 | T15: 126204.51 | U15: 120002.44 | V15: 114292.42 | W15: 108406.57 | X15: 103584.96 | Y15: 99130.724 | Z15: 94483.311 | AA15: 90695.61 | AC15: 39000 | AD15: =P15/$O15 -> 3.9759739 | AE15: =Q15/$O15 -> 3.7556089 | AF15: =R15/$O15 -> 3.575358 | AG15: =S15/$O15 -> 3.3885198 | AH15: =T15/$O15 -> 3.2360131 | AI15: =U15/$O15 -> 3.0769856 | AJ15: =V15/$O15 -> 2.9305748 | AK15: =W15/$O15 -> 2.7796557 | ... AO15: =AA15/$O15 -> 2.3255285
A16: 40000 | B16: 0.159 | C16: 0.161 | D16: 0.164 | E16: 0.166 | F16: 0.169 | G16: 0.171 | H16: 0.173 | I16: 0.174 | J16: 0.176 | K16: 0.178 | L16: 0.179 | M16: 0.181 | O16: 40000 | P16: 159038.96 | Q16: 150224.36 | R16: 143014.32 | S16: 135540.79 | T16: 129440.52 | U16: 123079.42 | V16: 117222.99 | W16: 111186.23 | X16: 106240.99 | Y16: 101672.54 | Z16: 96905.96 | AA16: 93021.138 | AC16: 40000 | AD16: =P16/$O16 -> 3.9759739 | AE16: =Q16/$O16 -> 3.7556089 | AF16: =R16/$O16 -> 3.575358 | AG16: =S16/$O16 -> 3.3885198 | AH16: =T16/$O16 -> 3.2360131 | AI16: =U16/$O16 -> 3.0769856 | AJ16: =V16/$O16 -> 2.9305748 | AK16: =W16/$O16 -> 2.7796557 | ... AO16: =AA16/$O16 -> 2.3255285
A17: 41000 | B17: 0.159 | C17: 0.161 | D17: 0.164 | E17: 0.166 | F17: 0.169 | G17: 0.171 | H17: 0.173 | I17: 0.174 | J17: 0.176 | K17: 0.178 | L17: 0.179 | M17: 0.181 | O17: 41000 | P17: 163014.93 | Q17: 153979.96 | R17: 146589.68 | S17: 138929.31 | T17: 132676.54 | U17: 126156.41 | V17: 120153.57 | W17: 113965.88 | X17: 108897.01 | Y17: 104214.35 | Z17: 99328.609 | AA17: 95346.667 | AC17: 41000 | AD17: =P17/$O17 -> 3.9759739 | AE17: =Q17/$O17 -> 3.7556089 | AF17: =R17/$O17 -> 3.575358 | AG17: =S17/$O17 -> 3.3885198 | AH17: =T17/$O17 -> 3.2360131 | AI17: =U17/$O17 -> 3.0769856 | AJ17: =V17/$O17 -> 2.9305748 | AK17: =W17/$O17 -> 2.7796557 | ... AO17: =AA17/$O17 -> 2.3255285
... A101: 125000 | B101: 0.209 | C101: 0.212 | D101: 0.216 | E101: 0.219 | F101: 0.223 | G101: 0.226 | H101: 0.228 | I101: 0.231 | J101: 0.233 | K101: 0.236 | L101: 0.238 | M101: 0.24 | O101: 125000 | P101: 653285.02 | Q101: 618159.23 | R101: 588626.02 | S101: 558799.58 | T101: 533750.68 | U101: 508332.41 | V101: 482782.56 | W101: 461279.07 | X101: 439526.81 | Y101: 421255.6 | Z101: 402646.97 | AA101: 385446.71 | AC101: 125000 | AD101: =P101/$O101 -> 5.2262802 | AE101: =Q101/$O101 -> 4.9452738 | AF101: =R101/$O101 -> 4.7090081 | AG101: =S101/$O101 -> 4.4703966 | AH101: =T101/$O101 -> 4.2700054 | AI101: =U101/$O101 -> 4.0666593 | AJ101: =V101/$O101 -> 3.8622605 | AK101: =W101/$O101 -> 3.6902326 | ... AO101: =AA101/$O101 -> 3.0835736

Sheet box3 welAOW
A1: Financieringslastpercentages voor 2026 voor niet-aftrekbare gedeelten voor AOW-gerechtigden | O1: Maximale hypotheek | AC1: Factor lening/inkomen
A3: toetsrente | B3: <=1,500% | C3: 1,501-2,000% | D3: 2,001-2,500% | E3: 2,501-3,000% | F3: 3,001-3,500% | G3: 3,501-4,000% | H3: 4,001-4,500% | I3: 4,501-5,000% | J3: 5,001-5,500% | K3: 5,501-6,000% | L3: 6,001-6,500% | M3: >= 6,501% | O3: rente | P3: 0.0125 | Q3: 0.0175 | R3: 0.0225 | S3: 0.0275 | T3: 0.0325 | U3: 0.0375 | V3: 0.0425 | W3: 0.0475 | X3: 0.0525 | Y3: 0.0575 | Z3: 0.0625 | AA3: 0.0675 | AC3: rente | AD3: 0.0125 | AE3: 0.0175 | AF3: 0.0225 | AG3: 0.0275 | AH3: 0.0325 | AI3: 0.0375 | AJ3: 0.0425 | AK3: 0.0475 | AL3: 0.0525 | AM3: 0.0575 | AN3: 0.0625 | AO3: 0.0675
A4: bruto inkomen | B4: 0 | C4: =toelichting!B38+0.00001 -> 0.01501 | D4: =C4+0.5% -> 0.02001 | E4: =D4+0.5% -> 0.02501 | F4: =E4+0.5% -> 0.03001 | G4: =F4+0.5% -> 0.03501 | H4: =G4+0.5% -> 0.04001 | I4: =H4+0.5% -> 0.04501 | J4: =I4+0.5% -> 0.05001 | K4: =J4+0.5% -> 0.05501 | ... M4: =L4+0.5% -> 0.06501 | O4: bruto inkomen | AC4: bruto inkomen
A5: - | B5: 0.179 | C5: 0.182 | D5: 0.185 | E5: 0.188 | F5: 0.19 | G5: 0.193 | H5: 0.195 | I5: 0.197 | J5: 0.199 | K5: 0.201 | L5: 0.202 | M5: 0.204
A6: 29000 | B6: 0.179 | C6: 0.182 | D6: 0.185 | E6: 0.188 | F6: 0.19 | G6: 0.193 | H6: 0.195 | I6: 0.197 | J6: 0.199 | K6: 0.201 | L6: 0.202 | M6: 0.204 | O6: 29000 | P6: 129806.8 | Q6: 123118.66 | R6: 116962.17 | S6: 111290.42 | T6: 105505.51 | U6: 100712.8 | V6: 95794.224 | W6: 91265.363 | X6: 87090.446 | Y6: 83237.25 | Z6: 79284.234 | AA6: 76010.09 | AC6: 29000 | AD6: =P6/$O6 -> 4.4760964 | AE6: =Q6/$O6 -> 4.2454709 | AF6: =R6/$O6 -> 4.0331783 | AG6: =S6/$O6 -> 3.8376008 | AH6: =T6/$O6 -> 3.6381212 | AI6: =U6/$O6 -> 3.4728551 | AJ6: =V6/$O6 -> 3.3032491 | AK6: =W6/$O6 -> 3.1470815 | ... AO6: =AA6/$O6 -> 2.6210376
A7: 30000 | B7: 0.186 | C7: 0.189 | D7: 0.192 | E7: 0.195 | F7: 0.198 | G7: 0.2 | H7: 0.202 | I7: 0.204 | J7: 0.206 | K7: 0.208 | L7: 0.21 | M7: 0.211 | O7: 30000 | P7: 139534.18 | Q7: 132262.75 | R7: 125573.55 | S7: 119414.7 | T7: 113739.16 | U7: 107964.41 | V7: 102654.82 | W7: 97767.201 | X7: 93262.685 | Y7: 89106.269 | Z7: 85266.418 | AA7: 81329.255 | AC7: 30000 | AD7: =P7/$O7 -> 4.6511393 | AE7: =Q7/$O7 -> 4.4087583 | AF7: =R7/$O7 -> 4.185785 | AG7: =S7/$O7 -> 3.9804902 | AH7: =T7/$O7 -> 3.7913052 | AI7: =U7/$O7 -> 3.5988136 | AJ7: =V7/$O7 -> 3.4218273 | AK7: =W7/$O7 -> 3.2589067 | ... AO7: =AA7/$O7 -> 2.7109752
A8: 31000 | B8: 0.192 | C8: 0.195 | D8: 0.198 | E8: 0.201 | F8: 0.204 | G8: 0.206 | H8: 0.208 | I8: 0.211 | J8: 0.213 | K8: 0.215 | L8: 0.216 | M8: 0.218 | O8: 31000 | P8: 148836.46 | Q8: 141010.28 | R8: 133814.31 | S8: 127191.97 | T8: 121091.99 | U8: 114910.12 | V8: 109227.44 | W8: 104492.69 | X8: 99646.199 | Y8: 95175.206 | Z8: 90626.021 | AA8: 86828.295 | AC8: 31000 | AD8: =P8/$O8 -> 4.801176 | AE8: =Q8/$O8 -> 4.5487188 | AF8: =R8/$O8 -> 4.3165908 | AG8: =S8/$O8 -> 4.1029668 | AH8: =T8/$O8 -> 3.9061933 | AI8: =U8/$O8 -> 3.706778 | AJ8: =V8/$O8 -> 3.5234657 | AK8: =W8/$O8 -> 3.3707319 | ... AO8: =AA8/$O8 -> 2.8009127
A9: 32000 | B9: 0.197 | C9: 0.2 | D9: 0.203 | E9: 0.206 | F9: 0.209 | G9: 0.212 | H9: 0.214 | I9: 0.216 | J9: 0.218 | K9: 0.22 | L9: 0.222 | M9: 0.224 | O9: 32000 | P9: 157638.61 | Q9: 149291.29 | R9: 141619.06 | S9: 134560.98 | T9: 128061.87 | U9: 122071.76 | V9: 116003.33 | W9: 110419.43 | X9: 105275.16 | Y9: 100530.15 | Z9: 96148.037 | AA9: 92096.066 | AC9: 32000 | AD9: =P9/$O9 -> 4.9262067 | AE9: =Q9/$O9 -> 4.6653527 | AF9: =R9/$O9 -> 4.4255956 | AG9: =S9/$O9 -> 4.2050306 | AH9: =T9/$O9 -> 4.0019333 | AI9: =U9/$O9 -> 3.8147424 | AJ9: =V9/$O9 -> 3.6251041 | AK9: =W9/$O9 -> 3.4506071 | ... AO9: =AA9/$O9 -> 2.8780021
A10: 33000 | B10: 0.2 | C10: 0.203 | D10: 0.207 | E10: 0.21 | F10: 0.212 | G10: 0.215 | H10: 0.217 | I10: 0.22 | J10: 0.222 | K10: 0.224 | L10: 0.226 | M10: 0.228 | O10: 33000 | P10: 165040.43 | Q10: 156265.99 | R10: 148922.38 | S10: 141460.5 | T10: 133959.45 | U10: 127667.91 | V10: 121305.47 | W10: 115978.74 | X10: 110557.03 | Y10: 105556.66 | Z10: 100939.2 | AA10: 96670.034 | AC10: 33000 | AD10: =P10/$O10 -> 5.001225 | AE10: =Q10/$O10 -> 4.7353329 | AF10: =R10/$O10 -> 4.5127994 | AG10: =S10/$O10 -> 4.2866817 | AH10: =T10/$O10 -> 4.0593773 | AI10: =U10/$O10 -> 3.8687246 | AJ10: =V10/$O10 -> 3.6759234 | AK10: =W10/$O10 -> 3.5145072 | ... AO10: =AA10/$O10 -> 2.929395
A11: 34000 | B11: 0.202 | C11: 0.205 | D11: 0.209 | E11: 0.212 | F11: 0.214 | G11: 0.217 | H11: 0.22 | I11: 0.222 | J11: 0.224 | K11: 0.226 | L11: 0.228 | M11: 0.23 | O11: 34000 | P11: 171742.07 | Q11: 162587.54 | R11: 154917.65 | S11: 147135.25 | T11: 139320.89 | U11: 132760.23 | V11: 126709.25 | W11: 120579.55 | X11: 114933.43 | Y11: 109726.37 | Z11: 104918.3 | AA11: 100473.11 | AC11: 34000 | AD11: =P11/$O11 -> 5.0512373 | AE11: =Q11/$O11 -> 4.7819865 | AF11: =R11/$O11 -> 4.5564014 | AG11: =S11/$O11 -> 4.3275072 | AH11: =T11/$O11 -> 4.0976733 | AI11: =U11/$O11 -> 3.9047127 | AJ11: =V11/$O11 -> 3.7267426 | AK11: =W11/$O11 -> 3.5464573 | ... AO11: =AA11/$O11 -> 2.9550914
A12: 35000 | B12: 0.203 | C12: 0.207 | D12: 0.21 | E12: 0.213 | F12: 0.216 | G12: 0.219 | H12: 0.221 | I12: 0.223 | J12: 0.226 | K12: 0.228 | L12: 0.23 | M12: 0.231 | O12: 35000 | P12: 177668.52 | Q12: 169002.4 | R12: 160237.08 | S12: 152177.2 | T12: 144758.93 | U12: 137924.53 | V12: 131028.88 | W12: 124685.13 | X12: 119370.2 | Y12: 113953.21 | Z12: 108951.53 | AA12: 103877.89 | AC12: 35000 | AD12: =P12/$O12 -> 5.0762434 | AE12: =Q12/$O12 -> 4.82864 | AF12: =R12/$O12 -> 4.5782023 | AG12: =S12/$O12 -> 4.34792 | AH12: =T12/$O12 -> 4.1359694 | AI12: =U12/$O12 -> 3.9407008 | AJ12: =V12/$O12 -> 3.7436823 | AK12: =W12/$O12 -> 3.5624323 | ... AO12: =AA12/$O12 -> 2.9679396
A13: 36000 | B13: 0.205 | C13: 0.208 | D13: 0.211 | E13: 0.214 | F13: 0.217 | G13: 0.22 | H13: 0.222 | I13: 0.225 | J13: 0.227 | K13: 0.229 | L13: 0.231 | M13: 0.233 | O13: 36000 | P13: 184545.2 | Q13: 174670.8 | R13: 165600.12 | S13: 157259.98 | T13: 149584.23 | U13: 142513.02 | V13: 135382.39 | W13: 129397.77 | X13: 123324.06 | Y13: 117723.09 | Z13: 112551.67 | AA13: 107770.9 | AC13: 36000 | AD13: =P13/$O13 -> 5.1262557 | AE13: =Q13/$O13 -> 4.8519668 | AF13: =R13/$O13 -> 4.6000033 | AG13: =S13/$O13 -> 4.3683328 | AH13: =T13/$O13 -> 4.1551174 | AI13: =U13/$O13 -> 3.9586949 | AJ13: =V13/$O13 -> 3.760622 | AK13: =W13/$O13 -> 3.5943824 | ... AO13: =AA13/$O13 -> 2.9936361
A14: 37000 | B14: 0.206 | C14: 0.209 | D14: 0.212 | E14: 0.216 | F14: 0.218 | G14: 0.221 | H14: 0.224 | I14: 0.226 | J14: 0.228 | K14: 0.23 | L14: 0.232 | M14: 0.234 | O14: 37000 | P14: 190596.69 | Q14: 180385.86 | R14: 171006.76 | S14: 163138.86 | T14: 154447.82 | U14: 147137.49 | V14: 140396.56 | W14: 133583.22 | X14: 127308.09 | Y14: 121521.53 | Z14: 116178.88 | AA14: 111239.92 | AC14: 37000 | AD14: =P14/$O14 -> 5.1512618 | AE14: =Q14/$O14 -> 4.8752935 | AF14: =R14/$O14 -> 4.6218043 | AG14: =S14/$O14 -> 4.4091583 | AH14: =T14/$O14 -> 4.1742654 | AI14: =U14/$O14 -> 3.976689 | AJ14: =V14/$O14 -> 3.7945015 | AK14: =W14/$O14 -> 3.6103574 | ... AO14: =AA14/$O14 -> 3.0064843
A15: 38000 | B15: 0.207 | C15: 0.21 | D15: 0.214 | E15: 0.217 | F15: 0.22 | G15: 0.222 | H15: 0.225 | I15: 0.227 | J15: 0.229 | K15: 0.231 | L15: 0.233 | M15: 0.235 | O15: 38000 | P15: 196698.18 | Q15: 186147.57 | R15: 177285.44 | S15: 168323.7 | T15: 160077.33 | U15: 151797.96 | V15: 144834.77 | W15: 137800.63 | X15: 131322.31 | Y15: 125348.53 | Z15: 119833.15 | AA15: 114734.64 | AC15: 38000 | AD15: =P15/$O15 -> 5.1762679 | AE15: =Q15/$O15 -> 4.8986203 | AF15: =R15/$O15 -> 4.6654062 | AG15: =S15/$O15 -> 4.4295711 | AH15: =T15/$O15 -> 4.2125614 | AI15: =U15/$O15 -> 3.994683 | AJ15: =V15/$O15 -> 3.8114413 | AK15: =W15/$O15 -> 3.6263325 | ... AO15: =AA15/$O15 -> 3.0193325
A16: 39000 | B16: 0.208 | C16: 0.211 | D16: 0.214 | E16: 0.217 | F16: 0.22 | G16: 0.223 | H16: 0.226 | I16: 0.228 | J16: 0.23 | K16: 0.232 | L16: 0.234 | M16: 0.236 | O16: 39000 | P16: 202849.69 | Q16: 191955.94 | R16: 181950.84 | S16: 172753.27 | T16: 164289.89 | U16: 156494.41 | V16: 149306.86 | W16: 142049.99 | X16: 135366.71 | Y16: 129204.09 | Z16: 123514.5 | AA16: 118255.05 | AC16: 39000 | AD16: =P16/$O16 -> 5.201274 | AE16: =Q16/$O16 -> 4.9219471 | AF16: =R16/$O16 -> 4.6654062 | AG16: =S16/$O16 -> 4.4295711 | AH16: =T16/$O16 -> 4.2125614 | AI16: =U16/$O16 -> 4.0126771 | AJ16: =V16/$O16 -> 3.828381 | AK16: =W16/$O16 -> 3.6423075 | ... AO16: =AA16/$O16 -> 3.0321808
A17: 40000 | B17: 0.208 | C17: 0.212 | D17: 0.215 | E17: 0.218 | F17: 0.221 | G17: 0.224 | H17: 0.226 | I17: 0.229 | J17: 0.231 | K17: 0.233 | L17: 0.235 | M17: 0.237 | O17: 40000 | P17: 208050.96 | Q17: 197810.95 | R17: 187488.29 | S17: 177999.35 | T17: 169268.38 | U17: 161226.85 | V17: 153135.24 | W17: 146331.3 | X17: 139441.3 | Y17: 133088.21 | Z17: 127222.91 | AA17: 121801.16 | AC17: 40000 | AD17: =P17/$O17 -> 5.201274 | AE17: =Q17/$O17 -> 4.9452738 | AF17: =R17/$O17 -> 4.6872072 | AG17: =S17/$O17 -> 4.4499839 | AH17: =T17/$O17 -> 4.2317094 | AI17: =U17/$O17 -> 4.0306712 | AJ17: =V17/$O17 -> 3.828381 | AK17: =W17/$O17 -> 3.6582825 | ... AO17: =AA17/$O17 -> 3.045029
... A87: 110000 | B87: 0.267 | C87: 0.271 | D87: 0.276 | E87: 0.28 | F87: 0.284 | G87: 0.288 | H87: 0.291 | I87: 0.294 | J87: 0.298 | K87: 0.301 | L87: 0.303 | M87: 0.306 | O87: 110000 | P87: 734429.9 | Q87: 695370.81 | R87: 661877.25 | S87: 628713.32 | T87: 598183.72 | U87: 570052.07 | V87: 542241.04 | W87: 516632.56 | X87: 494684.6 | Y87: 472805.86 | Z87: 451099.95 | AA87: 432471.2 | AC87: 110000 | AD87: =P87/$O87 -> 6.6766354 | AE87: =Q87/$O87 -> 6.3215529 | AF87: =R87/$O87 -> 6.0170659 | AG87: =S87/$O87 -> 5.7155756 | AH87: =T87/$O87 -> 5.4380338 | AI87: =U87/$O87 -> 5.1822915 | AJ87: =V87/$O87 -> 4.929464 | AK87: =W87/$O87 -> 4.6966597 | ... AO87: =AA87/$O87 -> 3.9315564

Sheet overige parameters
B2: Extra bedrag bij aangaan hypotheek
B3: 1. voor label E, F of G | C3: 0
B4: 2. voor label C of D | C4: 5000
B5: 3. voor label A of B | C5: 10000
B6: 4. voor label A+ of A++ | C6: 20000
B7: 5. voor label A+++ | C7: 25000
B8: 6. voor label A++++ | C8: 30000
B9: 7. voor label A++++ met garantie | C9: 40000
B10: 8. geen geldig label | C10: 0
B12: Extra bedrag voor verduurzamende maatregelen uit de lijst bij verbouwing
B13: 1. voor label E, F of G | C13: 20000 | E13: ja
B14: 2. voor label C of D | C14: 15000 | E14: nee
B15: 3. voor label A of B | C15: 10000
B16: 4. voor label A+ of A++ | C16: 10000
B17: 5. voor label A+++ | C17: 0
B18: 6. voor label A++++ | C18: 0
B19: 7. voor label A++++ met garantie | C19: 0
B20: 8. geen geldig label | C20: 10000
B22: Vuistregel voor tweeverdieners
B23: Hanteer het financieringslastpercentage dat hoort bij | C23: 1 | D23: keer het hoogste inkomen | E23: plus | F23: 1 | G23: keer het laagste inkomen
B25: Verhoging voor groepen met aantoonbaar geen persoonlijk onvermijdbare uitgaven (uit de Tijdelijke regeling voor hypothecair krediet)
B26: Verhoog de maximale hypotheek met | C26: 17000
B28: Bruteringsfactor studieschuld
B29: Debetrente hypotheek
B30: <= 1,500% | C30: 1.05
B31: 1,501% - 2,000% | C31: 1.05
B32: 2,001% - 2,500% | C32: 1.1
B33: 2,501% - 3,000% | C33: 1.15
B34: 3,001% - 3,500% | C34: 1.2
B35: 3,501% - 4,000% | C35: 1.2
B36: 4,001% - 4,500% | C36: 1.25
B37: 4,501% - 5,000% | C37: 1.3
B38: 5,001% - 5,500% | C38: 1.3
B39: 5,501% - 6,000% | C39: 1.35
B40: 6,001% - 6,500% | C40: 1.4
B41: >= 6,501% | C41: 1.4

Sheet onderhoud en energie
B2: overige eigenaarslasten (als percentage van de waarde van de woning per jaar) | C2: 0.013335
B4: gebouwgebonden energieverbruik
B5: basisbedrag | C5: jaarbedrag
B6: flatwoning energielabel EFG | C6: 2192
B8: voorbeeldbedragen label EFG | C8: jaarbedrag
B9: waarde van de woning
B10: 0 - 300.000 | C10: 2192
B11: 300.00 - 400.000 | C11: 2188
B12: 400.00 - 500.000 | C12: 2300
B13: 500.00 - 600.000 | C13: 2430
B14: 600.00 - 700.000 | C14: 2541
B15: 700.00 - 800.000 | C15: 2716
B16: 800.000 -900.000 | C16: 2773
B17: > 900.000 | C17: 2855
